BEGIN:VCALENDAR
PRODID:-//event//iCal4j 1.0//EN
CALSCALE:GREGORIAN
BEGIN:VEVENT
DTSTAMP:20260419T204722Z
DTSTART:20220422T130000Z
DTEND:20220422T220000Z
SUMMARY:20220419
LOCATION:
END:VEVENT
END:VCALENDAR
